BEGIN:VCALENDAR
VERSION:2.0
PRODID:icalendar-ruby
CALSCALE:GREGORIAN
BEGIN:VEVENT
DTSTAMP:20260422T104138Z
UID:9d66dba7-929b-4fa1-aa06-bebbe9465e20
DTSTART;TZID=Australia/Melbourne:20260423T170000
DTEND;TZID=Australia/Melbourne:20260423T173000
DESCRIPTION:Property ID# 1005410\nhttps://www.au.open2view.com/properties/1
 005410
SUMMARY:Openhome for 16 Caviar Court
END:VEVENT
END:VCALENDAR
