BEGIN:VCALENDAR
VERSION:2.0
PRODID:icalendar-ruby
CALSCALE:GREGORIAN
BEGIN:VEVENT
DTSTAMP:20260421T142027Z
UID:0ab133ee-9282-497a-bb3f-345a1e9bf688
DTSTART;TZID=Australia/Brisbane:20260426T093000
DTEND;TZID=Australia/Brisbane:20260426T100000
DESCRIPTION:Property ID# 596725\nhttps://www.au.open2view.com/properties/59
 6725
SUMMARY:Openhome for 29 Random Way
END:VEVENT
END:VCALENDAR
